BEGIN:VCALENDAR
VERSION:2.0
PRODID:-//Downtown Worcester - ECPv6.6.0.2//NONSGML v1.0//EN
CALSCALE:GREGORIAN
METHOD:PUBLISH
X-WR-CALNAME:Downtown Worcester
X-ORIGINAL-URL:https://www.downtownworcester.org
X-WR-CALDESC:Events for Downtown Worcester
REFRESH-INTERVAL;VALUE=DURATION:PT1H
X-Robots-Tag:noindex
X-PUBLISHED-TTL:PT1H
BEGIN:VTIMEZONE
TZID:America/New_York
BEGIN:DAYLIGHT
TZOFFSETFROM:-0500
TZOFFSETTO:-0400
TZNAME:EDT
DTSTART:20230312T070000
END:DAYLIGHT
BEGIN:STANDARD
TZOFFSETFROM:-0400
TZOFFSETTO:-0500
TZNAME:EST
DTSTART:20231105T060000
END:STANDARD
END:VTIMEZONE
BEGIN:VEVENT
DTSTART;TZID=America/New_York:20231007T000000
DTEND;TZID=America/New_York:20231008T035900
DTSTAMP:20260420T183038
CREATED:20230522T153101Z
LAST-MODIFIED:20230522T153101Z
UID:11935-1696636800-1696737540@www.downtownworcester.org
SUMMARY:Gipsy Kings featuring Nicolas Reyes
DESCRIPTION:Nicolas Reyes has been the leader and co-founder of the Gipsy Kings for well over 30 years. In the past three decades\, they have dominated the World Music charts and sold more than 14 million albums worldwide. Their platinum compilation\, The Best of the Gipsy Kings\, was charting for over a year upon its release and their ninth studio album\, Savor Flamenco\, was awarded the Grammy® for Best World Music Album in 2013. \nThis iconic legacy began when Nicolas’ father\, Jose Reyes\, formed a celebrated flamenco duo with Manitas de Plata (which boasted fans as famed as Miles Davis and Pablo Picasso). When the pair parted ways\, the elder Reyes became even more popular upon starting his own band\, backed by his son\, called Los Reyes. In later years\, Nicolas headed out on his own and began playing in the town of Arles in the south of France. He traveled throughout the country\, busking on the streets of Saint-Tropez\, playing wherever he could. Having adopted the perpetual motion of the gypsy lifestyle\, his band eventually translated “Los Reyes” and became the Gipsy Kings. \nThe band’s music went on to fuse with popular culture. In addition to the accolades above\, the traveling Gipsy Kings have played some of the world’s greatest stages\, from the Hollywood Bowl to Royal Albert Hall as well as hitting the big screen. Their rendition of “Hotel California” was included in the film The Big Lebowski and the HBO series Entourage. The 2010 film Toy Story 3 featured a Gipsy Kings version of the movie’s popular\, Randy Newman-penned theme\, “You’ve Got a Friend in Me”. The Gipsy Kings recently featured in a Big Lebowski spinoff The Jesus Rolls with Reyes appearing in person with the director and star\, John Turturro\, for some of the promotion. \nAs active as this remarkable collective remains\, they are also confident in the future of their legacy. “Even though it’s been 30 years\, we want to keep on making new music because it’s our life. It’s who we are\,” says Nicolas Reyes. “But I think there will be a time when we pass down the Gipsy Kings to our sons”. \n30 years is an eternity in pop music but the story of the Gipsy Kings featuring Nicolas Reyes has the depth to endure. Theirs is a music that extends through generations\, to the sounds of their ancestors—Spanish Romani people who fled the Catalonia region during the Spanish Civil War—and reflects the vibrantly eclectic and peripatetic history of the gitanos. \nThere is an 8 ticket limit for this event. \nTickets are $44.50\, $54.50\, $64.50 and $74.50 depending on seat location. Limited Autographed Memoir Bundle tickets available for $174.50. Please contact the box office at 877.571.7469 for more information.
URL:https://www.downtownworcester.org/event/gipsy-kings-featuring-nicolas-reyes/
CATEGORIES:Music,Worcester
ATTACH;FMTTYPE=image/jpeg:https://www.downtownworcester.org/wp-content/uploads/2023/05/gipsy-kings-featuring-nicolas-reyes-ut79f7h2.jpg
END:VEVENT
END:VCALENDAR