BEGIN:VCALENDAR
VERSION:2.0
PRODID:-//Downtown Worcester - ECPv6.6.0.2//NONSGML v1.0//EN
CALSCALE:GREGORIAN
METHOD:PUBLISH
X-ORIGINAL-URL:https://www.downtownworcester.org
X-WR-CALDESC:Events for Downtown Worcester
REFRESH-INTERVAL;VALUE=DURATION:PT1H
X-Robots-Tag:noindex
X-PUBLISHED-TTL:PT1H
BEGIN:VTIMEZONE
TZID:America/New_York
BEGIN:DAYLIGHT
TZOFFSETFROM:-0500
TZOFFSETTO:-0400
TZNAME:EDT
DTSTART:20230312T070000
END:DAYLIGHT
BEGIN:STANDARD
TZOFFSETFROM:-0400
TZOFFSETTO:-0500
TZNAME:EST
DTSTART:20231105T060000
END:STANDARD
END:VTIMEZONE
BEGIN:VEVENT
DTSTART;TZID=America/New_York:20230928T000000
DTEND;TZID=America/New_York:20230929T035900
DTSTAMP:20260420T034819
CREATED:20230522T134243Z
LAST-MODIFIED:20230522T134243Z
UID:11699-1695859200-1695959940@www.downtownworcester.org
SUMMARY:The Sixties Show
DESCRIPTION:A Show About Time Traveling Back to The 1960’s\, Based Around the Greatest 1960’s Musical Re Creation Concert…Ever. \nIn addition to the concert experience\, the show is a large scale and ambitious stage production that is powerfully dramatized by a combination of time travel special effects\, narration\, 60’s archival audio\, newsreel footage and a light show. This must be seen to be believed bigger-than-life\, show is nothing less than awe inspiring. \nThe band is widely celebrated and known for re-creating spot on\, note for note re-creations of the hits\, B-sides and deep album cuts from the greatest songs of the 1960’s. \nThe members of The Sixties Show were hand-picked to perform and record with Sir Paul McCartney\, The Beach Boys\, Brian Wilson\, The Bee Gees\, Mick Jagger\, Bruce Springsteen\, John Fogerty\, Donald Fagan and Walter Becker from Steely Dan and other legends and individually have performed at the most renown venues in the world such a Madison Square Garden\, The Hollywood Bowl\, Wembley Stadium\, The Grand Rex in Paris\, The Budokan in Tokyo and others. \nThe Sixties Show is a high energy trip back in time that reminds the audience how uniquely inspirational\, entertaining\, and historically significant the music and events of the 1960’s was and continues to be.
URL:https://www.downtownworcester.org/event/the-sixties-show/
CATEGORIES:Music,Performance,Theatre
ATTACH;FMTTYPE=image/jpeg:https://www.downtownworcester.org/wp-content/uploads/2023/05/the-sixties-show-7jziywcc.jpg
END:VEVENT
END:VCALENDAR