BEGIN:VCALENDAR
VERSION:2.0
PRODID:-//Downtown Worcester - ECPv6.6.0.2//NONSGML v1.0//EN
CALSCALE:GREGORIAN
METHOD:PUBLISH
X-WR-CALNAME:Downtown Worcester
X-ORIGINAL-URL:https://www.downtownworcester.org
X-WR-CALDESC:Events for Downtown Worcester
REFRESH-INTERVAL;VALUE=DURATION:PT1H
X-Robots-Tag:noindex
X-PUBLISHED-TTL:PT1H
BEGIN:VTIMEZONE
TZID:America/New_York
BEGIN:DAYLIGHT
TZOFFSETFROM:-0500
TZOFFSETTO:-0400
TZNAME:EDT
DTSTART:20230312T070000
END:DAYLIGHT
BEGIN:STANDARD
TZOFFSETFROM:-0400
TZOFFSETTO:-0500
TZNAME:EST
DTSTART:20231105T060000
END:STANDARD
END:VTIMEZONE
BEGIN:VEVENT
DTSTART;TZID=America/New_York:20230927T000000
DTEND;TZID=America/New_York:20230928T035900
DTSTAMP:20260420T022752
CREATED:20230522T153046Z
LAST-MODIFIED:20230522T153046Z
UID:11920-1695772800-1695873540@www.downtownworcester.org
SUMMARY:Engelbert Humperdinck: All About Love Tour
DESCRIPTION:In a career spanning over 50 years\, Engelbert has generated sales in excess of 140 million records\, including 64 gold albums and 35 platinum\, four Grammy® nominations\, a Golden Globe®\, and stars on the Hollywood Walk of Fame\, Las Vegas Walk of Fame and Leicester Walk of Fame. \nHe has performed for the Queen four times\, several presidents and many heads of state. He has recorded everything from the most romantic ballads to movie theme songs\, disco\, rock\, and even gospel. His unique voice has charmed millions of fans around the globe. \nEngelbert exploded on to the music scene with The Beatles and the Rolling Stones. The shy handsome man catapulted almost instantly to world icon. He became great friends with Elvis and the two legends often performed each other’s songs. His first single in the charts was “Release Me\,” which went into the Guinness Book of Records for achieving 56 consecutive weeks on the charts. It was No. 1 in 11 countries. The following decades see Engelbert constantly touring the world to sell-out crowds. He takes great pleasure in every moment on stage. \nEngelbert’s music has transcended time and his voice continues to reach out to people now serving to transport and inspire\, to embrace and to provoke feelings and emotions\, ingredients that are no doubt the essence of his long-lasting success. \nEngelbert’s hit song “A Man Without Love” was just featured in Marvel’s “Moon Knight” Disney+ Series\, with his music & social media charts breaking all records. In Sony Pictures’ new Brad Pitt film “Bullet Train” Engelbert’s song “Forever Blowing Bubbles” is featured as well. \nEngelbert was just awarded the Honor of Member of the Most Excellent Order of the British Empire (MBE) on Her Majesty the Queen’s Birthday Honors List presented by Her Royal Highness Princess Anne. \nTickets are $49\, $59\, $69 and $89 depending on seat location. Discounts are available for subscribers and groups of 10 or more. Please contact the box office at 877.571.SHOW (7469) for more information.
URL:https://www.downtownworcester.org/event/engelbert-humperdinck-all-about-love-tour/
CATEGORIES:Music
ATTACH;FMTTYPE=image/jpeg:https://www.downtownworcester.org/wp-content/uploads/2023/05/engelbert-humperdinck-all-about-love-tour-hz12cu74.jpg
END:VEVENT
END:VCALENDAR