BEGIN:VCALENDAR
VERSION:2.0
PRODID:-//Downtown Worcester - ECPv6.6.0.2//NONSGML v1.0//EN
CALSCALE:GREGORIAN
METHOD:PUBLISH
X-ORIGINAL-URL:https://www.downtownworcester.org
X-WR-CALDESC:Events for Downtown Worcester
REFRESH-INTERVAL;VALUE=DURATION:PT1H
X-Robots-Tag:noindex
X-PUBLISHED-TTL:PT1H
BEGIN:VTIMEZONE
TZID:America/New_York
BEGIN:DAYLIGHT
TZOFFSETFROM:-0500
TZOFFSETTO:-0400
TZNAME:EDT
DTSTART:20230312T070000
END:DAYLIGHT
BEGIN:STANDARD
TZOFFSETFROM:-0400
TZOFFSETTO:-0500
TZNAME:EST
DTSTART:20231105T060000
END:STANDARD
END:VTIMEZONE
BEGIN:VEVENT
DTSTART;TZID=America/New_York:20230924T000000
DTEND;TZID=America/New_York:20230925T035900
DTSTAMP:20260419T233129
CREATED:20230518T180703Z
LAST-MODIFIED:20230518T180704Z
UID:10352-1695513600-1695614340@www.downtownworcester.org
SUMMARY:The Australian Pink Floyd Show
DESCRIPTION:Selling 4 million tickets worldwide The Australian Pink Floyd Show gave its first ever concert in Adelaide\, Australia in 1988. Since then\, they have performed in over 35 countries worldwide\, played at David Gilmour’s 50th birthday celebration and were even joined on stage by Rick Wright. TAPFS is the leading and biggest show of its kind in the world. \nPerforming the music of Pink Floyd with note for note perfection\, this critically acclaimed tribute show has been astonishing audiences worldwide. Striving to reproduce the Pink Floyd experience and bring the music to new audiences\, the show continues to include a stunning light and laser show\, video animations\, state of the art high resolution LED screen technology and other special effects. To accompany these visuals are several large inflatables including a giant pig and their own distinct Pink Kangaroo. \nThey have also worked with musicians like Guy Pratt\, Durga McBroom and her sister Lorelei McBroom who have toured with Pink Floyd\, as well as sound engineer Colin Norfield who worked with Pink Floyd during their “Division Bell” tour and on David Gilmour’s solo tours. \nOften described as being more than a tribute band\, The Australian Pink Floyd Show is the first Pink Floyd tribute show that took the concept out of the pubs and onto the worldwide arena circuit. The band has played to sell out audiences throughout Europe\, UK\, America\, Canada\, South America and Russia. \nWith 30 years of history\, the world’s biggest\, best and greatest Pink Floyd tribute show continues to delight its global fan base. \nTickets are $39\, $49\, $62 and $79 depending on seat location with limited VIP packages also available for $179. See below for VIP package details. Contact the box office at 877.571.SHOW (7469) for more information.\nPlease note\, there is a 6 ticket limit per order.
URL:https://www.downtownworcester.org/event/the-australian-pink-floyd-show/
CATEGORIES:Music,Performance
ATTACH;FMTTYPE=image/jpeg:https://www.downtownworcester.org/wp-content/uploads/2023/02/the-australian-pink-floyd-show-x5a3a3aj.jpg
END:VEVENT
END:VCALENDAR