BEGIN:VCALENDAR
VERSION:2.0
PRODID:-//Downtown Worcester - ECPv6.6.0.2//NONSGML v1.0//EN
CALSCALE:GREGORIAN
METHOD:PUBLISH
X-WR-CALNAME:Downtown Worcester
X-ORIGINAL-URL:https://www.downtownworcester.org
X-WR-CALDESC:Events for Downtown Worcester
REFRESH-INTERVAL;VALUE=DURATION:PT1H
X-Robots-Tag:noindex
X-PUBLISHED-TTL:PT1H
BEGIN:VTIMEZONE
TZID:America/New_York
BEGIN:DAYLIGHT
TZOFFSETFROM:-0500
TZOFFSETTO:-0400
TZNAME:EDT
DTSTART:20230312T070000
END:DAYLIGHT
BEGIN:STANDARD
TZOFFSETFROM:-0400
TZOFFSETTO:-0500
TZNAME:EST
DTSTART:20231105T060000
END:STANDARD
END:VTIMEZONE
BEGIN:VEVENT
DTSTART;TZID=America/New_York:20230521T000000
DTEND;TZID=America/New_York:20230828T035900
DTSTAMP:20260419T155521
CREATED:20230522T134221Z
LAST-MODIFIED:20230522T134221Z
UID:11674-1684627200-1693195140@www.downtownworcester.org
SUMMARY:SUNDAY RUM DAY
DESCRIPTION:EVERY SUNDAY FROM 4 PM – 7 PM\, JOIN US ON THE ROOFTOP FOR SUNDAY RUMDAY FEATURING AN EXCLUSIVE RUM COCKTAIL MENU\, ROTATING LIVE MUSIC\, AND GOOD VIBES. 
URL:https://www.downtownworcester.org/event/sunday-rum-day/
CATEGORIES:Food + Drink,Music,Nightlife,Worcester
ATTACH;FMTTYPE=image/jpeg:https://www.downtownworcester.org/wp-content/uploads/2023/05/sunday-rum-day-muw6fs69.jpg
END:VEVENT
BEGIN:VEVENT
DTSTART;TZID=America/New_York:20230611T000000
DTEND;TZID=America/New_York:20230612T035900
DTSTAMP:20260419T155521
CREATED:20230531T040144Z
LAST-MODIFIED:20230531T040144Z
UID:12113-1686441600-1686542340@www.downtownworcester.org
SUMMARY:Free Organ Concert at First Unitarian Church of Worcester (Concert 2 of 4)
DESCRIPTION:Wesley Hall will be performing works by Böhm\, Scheidt\, Buxtehude\, J.S. Bach\, Bossi\, Cooper\, and Connor Chee\, a Navajo pianist and composer. Hall was recognized in 2016 by the Diapason Magazine as a “20 Under 30” leader in Organ\, Harpsichord\, and Sacred Music in the United States\, and is a dynamic organist and early musician with a passion for translating the music of the past into the contexts of today’s audiences. On TikTok\, he is known as "Westpiper" where he has 200\,0000 followers. His videos have received millions of views\, and he looks forward to bringing organ music to even more people who haven't yet experienced it. Hall is the Minister of Music and the Arts at the First Baptist Worcester. This program is supported in part by a grant from the Worcester Arts Council\, a local agency\, which is supported by the Mass Cultural Council\, a state agency. #WACFunded #PowerOfCulture
URL:https://www.downtownworcester.org/event/free-organ-concert-at-first-unitarian-church-of-worcester-concert-2-of-4/
CATEGORIES:Music,Worcester
ATTACH;FMTTYPE=image/png:https://www.downtownworcester.org/wp-content/uploads/2023/05/free-organ-concert-at-first-unitarian-church-of-worcester-concert-2-of-4-8g7w8mk6.jpg
END:VEVENT
END:VCALENDAR