BEGIN:VCALENDAR
VERSION:2.0
PRODID:-//Downtown Worcester - ECPv6.6.0.2//NONSGML v1.0//EN
CALSCALE:GREGORIAN
METHOD:PUBLISH
X-ORIGINAL-URL:https://www.downtownworcester.org
X-WR-CALDESC:Events for Downtown Worcester
REFRESH-INTERVAL;VALUE=DURATION:PT1H
X-Robots-Tag:noindex
X-PUBLISHED-TTL:PT1H
BEGIN:VTIMEZONE
TZID:America/New_York
BEGIN:DAYLIGHT
TZOFFSETFROM:-0500
TZOFFSETTO:-0400
TZNAME:EDT
DTSTART:20220313T070000
END:DAYLIGHT
BEGIN:STANDARD
TZOFFSETFROM:-0400
TZOFFSETTO:-0500
TZNAME:EST
DTSTART:20221106T060000
END:STANDARD
END:VTIMEZONE
BEGIN:VEVENT
DTSTART;TZID=America/New_York:20220504T000000
DTEND;TZID=America/New_York:20220504T235900
DTSTAMP:20260420T123623
CREATED:20230518T180345Z
LAST-MODIFIED:20230518T180352Z
UID:3479-1651622400-1651708740@www.downtownworcester.org
SUMMARY:FREE Brown Bag Concert\, featuring the Alex Minasian Quartet
DESCRIPTION:Join us for a complimentary lunchtime Brown Bag Concert featuring the Alex Minasian Quartet!\n  \nAlex Minasian\nWith two degrees from NYU\, Alex Minasian has\, at a remarkably young age\, established himself as a versatile pianist\, educator\, and impresario in many different musical genres. As a pianist\, Alex has has studied with some of the greatest pianists in jazz history\, including Hank Jones\, Don Friedman\, Jean-Michel Pilc\, and James Williams\, and has performed in most of the country's most famous jazz rooms\, such as Birdland\, the Blue Note\, Cafe Carlyle\, Yoshi's\, Bohemian Caverns\, Herb Alpert's Vibrato\, Iridium\, Jazz @ Lincoln Center\, and the Apollo Theater. \nHe has shared the stage with such legends as James Ingram\, Arturo Sandoval\, ?UESTLOVE\, Sam Moore\, Marylin McCoo\, Joe Pesci\, Antony Hegarty\, Steve Jordan\, Mel Carter\, Lenny Welch\, Curtis Fuller\, Hank Jones\, and Clark Terry\, and with such jazz greats as Brian Lynch\, Billy Pierce\, Sheila Jordan\, Gary Bartz and Hugh Masekela. Alex was the last pianist for the late iconic singer and NEA Jazz Master Little Jimmy Scott\, and is the pianist and musical director for the renowned jazz singer Mark Murphy\, and performs as pianist and musical director for singer\, actor\, songwriter\, and musical historian Billy Vera and his 18-piece big band. \nAlex has also headlined such important jazz celebrations as the Rochester Jazz Festival appearing as co-leader of a trio with Canadian bassist Brandi Disterheft. In 2013\, Minasian\, Disterheft\, a veteran drummer Steve Williams (Shirley Horn)\, formed the Hanky Panky Trio to honor Hank Jones..The Hanky Panky trio is featured in Season 2 of the hit Netflix show\, 'Orange Is The New Black'. They have performed at the Montreal Jazz Festival with Sheila Jordan\, and as a trio at the Istanbul Jazz Festival. Minasian's trio has a weekly residency at the Iconic New York Restaurant Tavern on the Green. Alex has been featured in Yerevan Magazine\, a Los Angeles–based Armenian publication promoting Armenian news and culture. \nLearn more here:\nAlex Minasian – YouTube\nAlex Minasian | Facebook\nAlex Minasian.com
URL:https://www.downtownworcester.org/event/free-brown-bag-concert-featuring-the-alex-minasian-quartet/
CATEGORIES:Community,Free,Music,Performance,Towns,Worcester
ATTACH;FMTTYPE=image/jpeg:https://www.downtownworcester.org/wp-content/uploads/2022/06/free-brown-bag-concert-ok2wblp3.jpg
END:VEVENT
END:VCALENDAR