BEGIN:VCALENDAR
VERSION:2.0
PRODID:-//Downtown Worcester - ECPv6.6.0.2//NONSGML v1.0//EN
CALSCALE:GREGORIAN
METHOD:PUBLISH
X-WR-CALNAME:Downtown Worcester
X-ORIGINAL-URL:https://www.downtownworcester.org
X-WR-CALDESC:Events for Downtown Worcester
REFRESH-INTERVAL;VALUE=DURATION:PT1H
X-Robots-Tag:noindex
X-PUBLISHED-TTL:PT1H
BEGIN:VTIMEZONE
TZID:America/New_York
BEGIN:DAYLIGHT
TZOFFSETFROM:-0500
TZOFFSETTO:-0400
TZNAME:EDT
DTSTART:20230312T070000
END:DAYLIGHT
BEGIN:STANDARD
TZOFFSETFROM:-0400
TZOFFSETTO:-0500
TZNAME:EST
DTSTART:20231105T060000
END:STANDARD
END:VTIMEZONE
BEGIN:VEVENT
DTSTART;TZID=America/New_York:20231104T000000
DTEND;TZID=America/New_York:20231105T035900
DTSTAMP:20260420T191058
CREATED:20230522T152951Z
LAST-MODIFIED:20230522T152951Z
UID:11875-1699056000-1699156740@www.downtownworcester.org
SUMMARY:Mania: The ABBA Tribute
DESCRIPTION:Mania: The ABBA Tribute brings one of the greatest pop phenomena back to life… \nFrom London’s West End to Las Vegas\, MANIA The ABBA Tribute (Formerly ABBA MANIA) remains the world’s No. 1 touring ABBA tribute show. Formed in 1999\, this production has sold out theaters and concert halls across the globe\, with over 3\,000 live concerts in over 30 countries\, bringing the music of the beloved Swedish supergroup to 3 million people. \nABBA’s timeless songs were written to be enjoyed live and MANIA gives you exactly that. Two hours of uplifting\, dance inducing and sometimes heart-breaking songs\, fully live with fantastic staging\, lighting and effects. The show recreates ABBA’s sound not only perfectly\, but respectfully too. MANIA is not only for life long\, die hard ABBA fans but the new generation of fans\, who never had the opportunity to see ‘ABBA’ live. Hits include ‘Dancing Queen’\, ‘Waterloo’\, ‘Mamma Mia’\, ‘The Winner Takes it All’\, ‘Super Trouper’\, ‘Fernando’\, ‘Take A Chance On Me’ and many more that continue to fill dance floors worldwide. \nTickets are $24.50\, $37.50\, $49.50 and $64.50 depending on seat location. Contact the box office at 877.571.SHOW (7469) for more information.
URL:https://www.downtownworcester.org/event/mania-the-abba-tribute-2/
CATEGORIES:Music,Nightlife,Performance
ATTACH;FMTTYPE=image/jpeg:https://www.downtownworcester.org/wp-content/uploads/2023/05/mania-the-abba-tribute-397f9xp3.jpg
END:VEVENT
END:VCALENDAR